BEGIN:VCALENDAR
VERSION:2.0
PRODID:-//EHM Apologetics - ECPv6.15.20//NONSGML v1.0//EN
CALSCALE:GREGORIAN
METHOD:PUBLISH
X-WR-CALNAME:EHM Apologetics
X-ORIGINAL-URL:https://ehmapologetics.org
X-WR-CALDESC:Events for EHM Apologetics
REFRESH-INTERVAL;VALUE=DURATION:PT1H
X-Robots-Tag:noindex
X-PUBLISHED-TTL:PT1H
BEGIN:VTIMEZONE
TZID:America/Chicago
BEGIN:DAYLIGHT
TZOFFSETFROM:-0600
TZOFFSETTO:-0500
TZNAME:CDT
DTSTART:20250309T080000
END:DAYLIGHT
BEGIN:STANDARD
TZOFFSETFROM:-0500
TZOFFSETTO:-0600
TZNAME:CST
DTSTART:20251102T070000
END:STANDARD
BEGIN:DAYLIGHT
TZOFFSETFROM:-0600
TZOFFSETTO:-0500
TZNAME:CDT
DTSTART:20260308T080000
END:DAYLIGHT
BEGIN:STANDARD
TZOFFSETFROM:-0500
TZOFFSETTO:-0600
TZNAME:CST
DTSTART:20261101T070000
END:STANDARD
BEGIN:DAYLIGHT
TZOFFSETFROM:-0600
TZOFFSETTO:-0500
TZNAME:CDT
DTSTART:20270314T080000
END:DAYLIGHT
BEGIN:STANDARD
TZOFFSETFROM:-0500
TZOFFSETTO:-0600
TZNAME:CST
DTSTART:20271107T070000
END:STANDARD
END:VTIMEZONE
BEGIN:VEVENT
DTSTART;TZID=America/Chicago:20260406T153000
DTEND;TZID=America/Chicago:20260406T170000
DTSTAMP:20260423T104206
CREATED:20260310T202109Z
LAST-MODIFIED:20260310T202109Z
UID:1133-1775489400-1775494800@ehmapologetics.org
SUMMARY:Universe Designed (Showing & Q&A)
DESCRIPTION:FREE Screening of UNIVERSE DESIGNED. \nQ&A with the director of the film and Eric Hernandez \n\n\nTarrant County College – South Campus\nSSTU building\, upstairs room-“Living Room “\n\n\n\n\n\nCampus map: https://www.tccd.edu/locations/south-campus/map/\n\n\n\nTrailer for the film:\n\n\n \n\n 
URL:https://ehmapologetics.org/event/universe-designed-showing-qa/
LOCATION:Tarrant County College South Campus\, 5301 Campus Dr\, Fort Worth\, texas\, 76119\, United States
END:VEVENT
BEGIN:VEVENT
DTSTART;TZID=America/Chicago:20260407T173000
DTEND;TZID=America/Chicago:20260407T203000
DTSTAMP:20260423T104206
CREATED:20260330T203543Z
LAST-MODIFIED:20260330T203543Z
UID:1164-1775583000-1775593800@ehmapologetics.org
SUMMARY:UTD Student Evangelism Mobilization
DESCRIPTION:
URL:https://ehmapologetics.org/event/utd-student-evangelism-mobilization/
LOCATION:University of Texas in Dallas\, 800 W Campbell Rd\, Richardson\, 75080\, United States
END:VEVENT
BEGIN:VEVENT
DTSTART;TZID=America/Chicago:20260412T090000
DTEND;TZID=America/Chicago:20260412T120000
DTSTAMP:20260423T104206
CREATED:20260310T202714Z
LAST-MODIFIED:20260310T203809Z
UID:1138-1775984400-1775995200@ehmapologetics.org
SUMMARY:FBC Waxahachie Worship Service(s)
DESCRIPTION:Apologetics in Evangelism \n\n9am “Classic Service”\n10:30 am “Contemporary Service”
URL:https://ehmapologetics.org/event/fbc-waxahachie-worship-services/
LOCATION:FBC Waxahachie\, 450 HWY 287 Bypass\, Waxahachie\, 75165\, United States
END:VEVENT
BEGIN:VEVENT
DTSTART;TZID=America/Chicago:20260412T170000
DTEND;TZID=America/Chicago:20260412T190000
DTSTAMP:20260423T104206
CREATED:20260408T210422Z
LAST-MODIFIED:20260408T210422Z
UID:1205-1776013200-1776020400@ehmapologetics.org
SUMMARY:Universe Designed FREE Screening
DESCRIPTION:North Pointe Church \nJoin us on Sunday\, April 12th from 5–7 pm for a special screening of the documentary Universe Designed. This Christian apologetics film explores how faith and reason come together to point to the truth of God’s existence through conversations with leading Christian thinkers such as Dr. Frank Turek\, Dr. Hugh Ross\, J. Warner Wallace\, Alisa Childers\, and Sean McDowell. \nWe are especially excited that Dr. Travis Dickinson\, one of our NorthPointe elders\, helped contribute to this documentary. He will be present along with the film’s creator\, Michael Ray Lewis\, and others for a live Q&A following the screening. \nPizza will be served\, and childcare will be available. Whether you are curious about apologetics\, interested in how science and faith intersect\, or simply want to learn more about the evidence for Christianity\, we invite you to join us for this engaging evening. \n 
URL:https://ehmapologetics.org/event/universe-designed-free-screening/
LOCATION:North Pointe Church\, 2450 SW Wilshire Blvd\, Burleson\, TX\, 76028\, United States
END:VEVENT
BEGIN:VEVENT
DTSTART;VALUE=DATE:20260417
DTEND;VALUE=DATE:20260419
DTSTAMP:20260423T104206
CREATED:20260310T203736Z
LAST-MODIFIED:20260331T135016Z
UID:1148-1776384000-1776556799@ehmapologetics.org
SUMMARY:WMU Pursue 2026
DESCRIPTION:See event website for registration details and schedule: https://www.wmutx.org/events/pursue
URL:https://ehmapologetics.org/event/wmu-pursue-2026/
LOCATION:Waco Convention Center\, 100 Washington Ave\, Waco\, texas\, 76701\, United States
END:VEVENT
BEGIN:VEVENT
DTSTART;TZID=America/Chicago:20260417T090000
DTEND;TZID=America/Chicago:20260417T120000
DTSTAMP:20260423T104206
CREATED:20260310T203358Z
LAST-MODIFIED:20260310T203358Z
UID:1141-1776416400-1776427200@ehmapologetics.org
SUMMARY:Congreso 2026
DESCRIPTION:See event website for registration details: https://www.texasbaptists.org/events/congreso
URL:https://ehmapologetics.org/event/congreso-2026/
LOCATION:Northwood Church\, 1870 Rufe Snow Dr\, Keller\, TX\, 76248\, United States
END:VEVENT
BEGIN:VEVENT
DTSTART;TZID=America/Chicago:20260419T090000
DTEND;TZID=America/Chicago:20260419T123000
DTSTAMP:20260423T104206
CREATED:20260330T204046Z
LAST-MODIFIED:20260330T204046Z
UID:1167-1776589200-1776601800@ehmapologetics.org
SUMMARY:Evidence for the Resurrection-Risen Nation Church
DESCRIPTION:Evidence for the Resurrection \n\n\n9:00 AM & 11:00 AM worship service
URL:https://ehmapologetics.org/event/evidence-for-the-resurrection-risen-nation-church/
LOCATION:Risen Nation Church\, 2121 Genoa Red Bluff Rd\, Pasadena\, TX\, 77505\, United States
END:VEVENT
BEGIN:VEVENT
DTSTART;TZID=America/Chicago:20260420T153000
DTEND;TZID=America/Chicago:20260420T170000
DTSTAMP:20260423T104206
CREATED:20260310T204107Z
LAST-MODIFIED:20260310T204107Z
UID:1153-1776699000-1776704400@ehmapologetics.org
SUMMARY:Does the Soul Exist? @TCC
DESCRIPTION:Tarrant County College – South Campus \nSSTU building\, upstairs room-“Forum Room “ \n\nCampus map: https://www.tccd.edu/locations/south-campus/map/
URL:https://ehmapologetics.org/event/does-the-soul-exist-tcc/
LOCATION:Tarrant County College South Campus\, 5301 Campus Dr\, Fort Worth\, texas\, 76119\, United States
END:VEVENT
BEGIN:VEVENT
DTSTART;VALUE=DATE:20260424
DTEND;VALUE=DATE:20260426
DTSTAMP:20260423T104206
CREATED:20260310T204602Z
LAST-MODIFIED:20260310T204602Z
UID:1155-1776988800-1777161599@ehmapologetics.org
SUMMARY:Men's Retreat
DESCRIPTION:See event website for registration and schedule details: \nMen’s Retreat
URL:https://ehmapologetics.org/event/mens-retreat/
LOCATION:Falls Creek Conference Center\, 6714 OK-77D\, Davis\, OK\, 73030\, United States
END:VEVENT
BEGIN:VEVENT
DTSTART;TZID=America/Chicago:20260507T183000
DTEND;TZID=America/Chicago:20260507T203000
DTSTAMP:20260423T104206
CREATED:20260330T205411Z
LAST-MODIFIED:20260330T205411Z
UID:1170-1778178600-1778185800@ehmapologetics.org
SUMMARY:National Day of Prayer
DESCRIPTION:
URL:https://ehmapologetics.org/event/national-day-of-prayer/
LOCATION:Lovelady High School\, 501 Boorman Ln\, TX\, Princeton\, TX\, 75407\, United States
END:VEVENT
END:VCALENDAR