BEGIN:VCALENDAR
VERSION:2.0
PRODID:-//EHM Apologetics - ECPv6.15.20//NONSGML v1.0//EN
CALSCALE:GREGORIAN
METHOD:PUBLISH
X-WR-CALNAME:EHM Apologetics
X-ORIGINAL-URL:https://ehmapologetics.org
X-WR-CALDESC:Events for EHM Apologetics
REFRESH-INTERVAL;VALUE=DURATION:PT1H
X-Robots-Tag:noindex
X-PUBLISHED-TTL:PT1H
BEGIN:VTIMEZONE
TZID:America/Chicago
BEGIN:DAYLIGHT
TZOFFSETFROM:-0600
TZOFFSETTO:-0500
TZNAME:CDT
DTSTART:20250309T080000
END:DAYLIGHT
BEGIN:STANDARD
TZOFFSETFROM:-0500
TZOFFSETTO:-0600
TZNAME:CST
DTSTART:20251102T070000
END:STANDARD
BEGIN:DAYLIGHT
TZOFFSETFROM:-0600
TZOFFSETTO:-0500
TZNAME:CDT
DTSTART:20260308T080000
END:DAYLIGHT
BEGIN:STANDARD
TZOFFSETFROM:-0500
TZOFFSETTO:-0600
TZNAME:CST
DTSTART:20261101T070000
END:STANDARD
BEGIN:DAYLIGHT
TZOFFSETFROM:-0600
TZOFFSETTO:-0500
TZNAME:CDT
DTSTART:20270314T080000
END:DAYLIGHT
BEGIN:STANDARD
TZOFFSETFROM:-0500
TZOFFSETTO:-0600
TZNAME:CST
DTSTART:20271107T070000
END:STANDARD
END:VTIMEZONE
BEGIN:VEVENT
DTSTART;VALUE=DATE:20260320
DTEND;VALUE=DATE:20260322
DTSTAMP:20260423T125633
CREATED:20260118T101813Z
LAST-MODIFIED:20260118T101813Z
UID:1020-1773964800-1774137599@ehmapologetics.org
SUMMARY:Youth Invasion 2026 Utah
DESCRIPTION:See event website for registration details. https://thebridgecommunity.churchcenter.com/registrations/events/3284589
URL:https://ehmapologetics.org/event/youth-invasion-2026-utah/
LOCATION:The Bridge Community\, 1284 W 75 N\, Centerville\, Utah\, 84014
END:VEVENT
BEGIN:VEVENT
DTSTART;TZID=America/Chicago:20260314T083000
DTEND;TZID=America/Chicago:20260314T120000
DTSTAMP:20260423T125633
CREATED:20260226T002702Z
LAST-MODIFIED:20260226T002702Z
UID:1125-1773477000-1773489600@ehmapologetics.org
SUMMARY:Men's Breakfast & Seminar
DESCRIPTION:
URL:https://ehmapologetics.org/event/mens-breakfast-seminar/
LOCATION:Cowboy Church of Collin County\, 2800 FM3364\, Princeton\, 75407
END:VEVENT
BEGIN:VEVENT
DTSTART;VALUE=DATE:20260313
DTEND;VALUE=DATE:20260314
DTSTAMP:20260423T125633
CREATED:20260118T103020Z
LAST-MODIFIED:20260118T103608Z
UID:1029-1773360000-1773446399@ehmapologetics.org
SUMMARY:African American Leadership Conference
DESCRIPTION:See event website for registration details: https://www.texasbaptists.org/events/african-american-leadership-conference
URL:https://ehmapologetics.org/event/african-american-leadership-conference/
LOCATION:Bethlehem Baptist Church\, 1188 W Broad St\, Ste 500\, Mansfield\, TX\, 76063
END:VEVENT
BEGIN:VEVENT
DTSTART;TZID=America/Chicago:20260308T150000
DTEND;TZID=America/Chicago:20260308T170000
DTSTAMP:20260423T125633
CREATED:20260118T101053Z
LAST-MODIFIED:20260118T101322Z
UID:1014-1772982000-1772989200@ehmapologetics.org
SUMMARY:Is the Trinity Biblical?
DESCRIPTION:
URL:https://ehmapologetics.org/event/is-the-trinity-biblical/
LOCATION:Chisolm Summit Community Church\, 9705 County Rd 1016\, Burleson\, texas\, 76028\, United States
END:VEVENT
BEGIN:VEVENT
DTSTART;TZID=America/Chicago:20260308T093000
DTEND;TZID=America/Chicago:20260308T113000
DTSTAMP:20260423T125633
CREATED:20260226T002257Z
LAST-MODIFIED:20260226T002257Z
UID:1121-1772962200-1772969400@ehmapologetics.org
SUMMARY:Lighthouse Mission Church
DESCRIPTION:Eric will be speaking for: \nSunday School 9:45-10:15 \nWorship Service 10:30-11:30
URL:https://ehmapologetics.org/event/lighthouse-mission-church/
LOCATION:Lighthouse Mission Church\, 14061 FM 38\, \, TX\, Honey Grove\, TX\, 75446\, United States
END:VEVENT
BEGIN:VEVENT
DTSTART;VALUE=DATE:20260307
DTEND;VALUE=DATE:20260308
DTSTAMP:20260423T125633
CREATED:20260118T100737Z
LAST-MODIFIED:20260118T101108Z
UID:1006-1772841600-1772927999@ehmapologetics.org
SUMMARY:OBU Apologetics Conference Feat. Sean McDowell
DESCRIPTION:See conference website for registration details.
URL:https://ehmapologetics.org/event/obu-apologetics-conference-feat-sean-mcdowell/
LOCATION:Oklahoma Baptist University\, 500 W. University St\, Shawnee\, OK\, 74804\, United States
END:VEVENT
BEGIN:VEVENT
DTSTART;TZID=America/Chicago:20260303T110000
DTEND;TZID=America/Chicago:20260303T130000
DTSTAMP:20260423T125633
CREATED:20260226T001227Z
LAST-MODIFIED:20260226T001227Z
UID:1117-1772535600-1772542800@ehmapologetics.org
SUMMARY:Pastors & Leaders Luncheon—Atheist Roleplay Training
DESCRIPTION:
URL:https://ehmapologetics.org/event/pastors-leaders-luncheon-atheist-roleplay-training/
LOCATION:Kauf-Van Baptist Association\, 9433 CR 136\, Terrell\, 75161
END:VEVENT
BEGIN:VEVENT
DTSTART;TZID=America/Chicago:20260301T110000
DTEND;TZID=America/Chicago:20260301T123000
DTSTAMP:20260423T125633
CREATED:20260118T100159Z
LAST-MODIFIED:20260203T165625Z
UID:1003-1772362800-1772368200@ehmapologetics.org
SUMMARY:First Baptist Church Denison
DESCRIPTION:
URL:https://ehmapologetics.org/event/first-baptist-church-denison-3/
LOCATION:First Baptist Church Denison\, 601 W. Woodard\, Denison\, Texas\, 75020
END:VEVENT
BEGIN:VEVENT
DTSTART;TZID=America/Chicago:20260222T110000
DTEND;TZID=America/Chicago:20260222T123000
DTSTAMP:20260423T125633
CREATED:20260118T100033Z
LAST-MODIFIED:20260203T165623Z
UID:1001-1771758000-1771763400@ehmapologetics.org
SUMMARY:First Baptist Church Denison
DESCRIPTION:
URL:https://ehmapologetics.org/event/first-baptist-church-denison-2/
LOCATION:First Baptist Church Denison\, 601 W. Woodard\, Denison\, Texas\, 75020
END:VEVENT
BEGIN:VEVENT
DTSTART;TZID=America/Chicago:20260217T190000
DTEND;TZID=America/Chicago:20260217T203000
DTSTAMP:20260423T125633
CREATED:20260202T165622Z
LAST-MODIFIED:20260202T165622Z
UID:1080-1771354800-1771360200@ehmapologetics.org
SUMMARY:Apologetics in Evangelism Student Training- UT Dallas
DESCRIPTION:Feb 24 – How to engage others in apologetics and the gospel (Part 2) – Eric Hernandez\nRoom: SSA 14.245
URL:https://ehmapologetics.org/event/apologetics-in-evangelism-student-training-ut-dallas-2/
LOCATION:University of Texas in Dallas\, 800 W Campbell Rd\, Richardson\, 75080\, United States
END:VEVENT
BEGIN:VEVENT
DTSTART;TZID=America/Chicago:20260217T190000
DTEND;TZID=America/Chicago:20260217T203000
DTSTAMP:20260423T125633
CREATED:20260202T165509Z
LAST-MODIFIED:20260202T165509Z
UID:1077-1771354800-1771360200@ehmapologetics.org
SUMMARY:Apologetics in Evangelism Student Training- UT Dallas
DESCRIPTION:Feb 17 – How to engage others in apologetics and the gospel (Part 1) – Eric Hernandez \nFeb 24 – How to engage others in apologetics and the gospel (Part 2) – Eric Hernandez\nRoom: SSA 14.245
URL:https://ehmapologetics.org/event/apologetics-in-evangelism-student-training-ut-dallas/
LOCATION:University of Texas in Dallas\, 800 W Campbell Rd\, Richardson\, 75080\, United States
END:VEVENT
BEGIN:VEVENT
DTSTART;TZID=America/Chicago:20260215T093000
DTEND;TZID=America/Chicago:20260215T123000
DTSTAMP:20260423T125633
CREATED:20260118T095908Z
LAST-MODIFIED:20260203T165621Z
UID:996-1771147800-1771158600@ehmapologetics.org
SUMMARY:First Baptist Church Denison
DESCRIPTION:
URL:https://ehmapologetics.org/event/first-baptist-church-denison/
LOCATION:First Baptist Church Denison\, 601 W. Woodard\, Denison\, Texas\, 75020
END:VEVENT
BEGIN:VEVENT
DTSTART;TZID=America/Chicago:20260211T190000
DTEND;TZID=America/Chicago:20260211T210000
DTSTAMP:20260423T125633
CREATED:20260109T215337Z
LAST-MODIFIED:20260126T181257Z
UID:979-1770836400-1770843600@ehmapologetics.org
SUMMARY:Atheist Roleplay Training
DESCRIPTION:
URL:https://ehmapologetics.org/event/apologetics-in-evangelism-training/
LOCATION:Rising Start Baptist Church\, 4216 Ave M\, Fort Worth\, tx
END:VEVENT
BEGIN:VEVENT
DTSTART;VALUE=DATE:20260206
DTEND;VALUE=DATE:20260209
DTSTAMP:20260423T125633
CREATED:20260118T092106Z
LAST-MODIFIED:20260203T165341Z
UID:986-1770336000-1770595199@ehmapologetics.org
SUMMARY:Apologetics in Evangelism Weekend Training
DESCRIPTION:Feb 6\, 2026\n6:30–8:30pm\n\n\nFeb 7\, 2026\n9am–3pm\n\n\n\nFeb 8\, 2026\n10:45 Worship
URL:https://ehmapologetics.org/event/apologetics-in-evangelism-training-2/
LOCATION:Memorial Baptist Church\, 22333 Kuykendahl Rd\, Spring\, TX\, 77379\, United States
END:VEVENT
END:VCALENDAR